BEGIN:VCALENDAR
VERSION:2.0
PRODID:-//Stránky farnosti - ECPv4.9.13//NONSGML v1.0//EN
CALSCALE:GREGORIAN
METHOD:PUBLISH
X-WR-CALNAME:Stránky farnosti
X-ORIGINAL-URL:https://trs-farnosti.cz
X-WR-CALDESC:Events for Stránky farnosti
BEGIN:VTIMEZONE
TZID:Europe/London
BEGIN:DAYLIGHT
TZOFFSETFROM:+0000
TZOFFSETTO:+0100
TZNAME:BST
DTSTART:20220327T010000
END:DAYLIGHT
BEGIN:STANDARD
TZOFFSETFROM:+0100
TZOFFSETTO:+0000
TZNAME:GMT
DTSTART:20221030T010000
END:STANDARD
END:VTIMEZONE
BEGIN:VEVENT
DTSTART;TZID=Europe/London:20220109T083000
DTEND;TZID=Europe/London:20220109T093000
DTSTAMP:20260422T120034
CREATED:20220101T221036Z
LAST-MODIFIED:20220101T221036Z
UID:9856-1641717000-1641720600@trs-farnosti.cz
SUMMARY:Mše svatá
DESCRIPTION:
URL:https://trs-farnosti.cz/udalost/mse-svata-126/
LOCATION:Radotín\, Kostel sv. Petra a Pavla\, nám. sv. Petra a Pavla 450/2\, Radotín
CATEGORIES:bohoslužby,Radotín
GEO:49.981958;14.3623536
X-APPLE-STRUCTURED-LOCATION;VALUE=URI;X-ADDRESS=Radotín Kostel sv. Petra a Pavla nám. sv. Petra a Pavla 450/2 Radotín;X-APPLE-RADIUS=500;X-TITLE=Kostel sv. Petra a Pavla\, nám. sv. Petra a Pavla 450/2:geo:14.3623536,49.981958
END:VEVENT
BEGIN:VEVENT
DTSTART;TZID=Europe/London:20220109T103000
DTEND;TZID=Europe/London:20220109T113000
DTSTAMP:20260422T120034
CREATED:20220101T221120Z
LAST-MODIFIED:20220101T221136Z
UID:9858-1641724200-1641727800@trs-farnosti.cz
SUMMARY:Mše svatá
DESCRIPTION:
URL:https://trs-farnosti.cz/udalost/mse-svata-127/
LOCATION:Černošice\, Kostel Nanebevzetí Panny Marie\, Komenského\,\, Černošice
CATEGORIES:bohoslužby,Černošice
GEO:49.9635294;14.3226915
X-APPLE-STRUCTURED-LOCATION;VALUE=URI;X-ADDRESS=Černošice Kostel Nanebevzetí Panny Marie Komenského Černošice;X-APPLE-RADIUS=500;X-TITLE=Kostel Nanebevzetí Panny Marie\, Komenského\,:geo:14.3226915,49.9635294
END:VEVENT
BEGIN:VEVENT
DTSTART;TZID=Europe/London:20220109T160000
DTEND;TZID=Europe/London:20220109T170000
DTSTAMP:20260422T120034
CREATED:20220101T221207Z
LAST-MODIFIED:20220101T221207Z
UID:9860-1641744000-1641747600@trs-farnosti.cz
SUMMARY:Mše svatá
DESCRIPTION:
URL:https://trs-farnosti.cz/udalost/mse-svata-128/
LOCATION:Kosoř\, Kaple sv. Anny\, Kosoř
CATEGORIES:bohoslužby,Kosoř
GEO:49.9867625;14.3270246
X-APPLE-STRUCTURED-LOCATION;VALUE=URI;X-ADDRESS=Kosoř Kaple sv. Anny Kosoř;X-APPLE-RADIUS=500;X-TITLE=Kaple sv. Anny:geo:14.3270246,49.9867625
END:VEVENT
END:VCALENDAR