BEGIN:VCALENDAR
VERSION:2.0
PRODID:-//Stránky farnosti - ECPv4.9.13//NONSGML v1.0//EN
CALSCALE:GREGORIAN
METHOD:PUBLISH
X-WR-CALNAME:Stránky farnosti
X-ORIGINAL-URL:https://trs-farnosti.cz
X-WR-CALDESC:Events for Stránky farnosti
BEGIN:VTIMEZONE
TZID:Europe/London
BEGIN:DAYLIGHT
TZOFFSETFROM:+0000
TZOFFSETTO:+0100
TZNAME:BST
DTSTART:20210328T010000
END:DAYLIGHT
BEGIN:STANDARD
TZOFFSETFROM:+0100
TZOFFSETTO:+0000
TZNAME:GMT
DTSTART:20211031T010000
END:STANDARD
END:VTIMEZONE
BEGIN:VEVENT
DTSTART;TZID=Europe/London:20211227T140000
DTEND;TZID=Europe/London:20211227T150000
DTSTAMP:20260423T081759
CREATED:20211227T071855Z
LAST-MODIFIED:20211227T071855Z
UID:9814-1640613600-1640617200@trs-farnosti.cz
SUMMARY:Poutní mše svatá v bazilice Nanebevzetí Panny Marie na Strahově
DESCRIPTION:
URL:https://trs-farnosti.cz/udalost/poutni-mse-svata-v-bazilice-nanebevzeti-panny-marie-na-strahove/
CATEGORIES:bohoslužby
END:VEVENT
END:VCALENDAR