BEGIN:VCALENDAR
VERSION:2.0
PRODID:-//Stránky farnosti - ECPv4.9.13//NONSGML v1.0//EN
CALSCALE:GREGORIAN
METHOD:PUBLISH
X-WR-CALNAME:Stránky farnosti
X-ORIGINAL-URL:https://trs-farnosti.cz
X-WR-CALDESC:Events for Stránky farnosti
BEGIN:VTIMEZONE
TZID:Europe/London
BEGIN:DAYLIGHT
TZOFFSETFROM:+0000
TZOFFSETTO:+0100
TZNAME:BST
DTSTART:20210328T010000
END:DAYLIGHT
BEGIN:STANDARD
TZOFFSETFROM:+0100
TZOFFSETTO:+0000
TZNAME:GMT
DTSTART:20211031T010000
END:STANDARD
END:VTIMEZONE
BEGIN:VEVENT
DTSTART;TZID=Europe/London:20211226T083000
DTEND;TZID=Europe/London:20211226T093000
DTSTAMP:20260423T100017
CREATED:20211220T115346Z
LAST-MODIFIED:20211220T115346Z
UID:9800-1640507400-1640511000@trs-farnosti.cz
SUMMARY:Mše svatá
DESCRIPTION:
URL:https://trs-farnosti.cz/udalost/mse-svata-110/
LOCATION:Radotín\, Kostel sv. Petra a Pavla\, nám. sv. Petra a Pavla 450/2\, Radotín
CATEGORIES:bohoslužby,Radotín
GEO:49.981958;14.3623536
X-APPLE-STRUCTURED-LOCATION;VALUE=URI;X-ADDRESS=Radotín Kostel sv. Petra a Pavla nám. sv. Petra a Pavla 450/2 Radotín;X-APPLE-RADIUS=500;X-TITLE=Kostel sv. Petra a Pavla\, nám. sv. Petra a Pavla 450/2:geo:14.3623536,49.981958
END:VEVENT
BEGIN:VEVENT
DTSTART;TZID=Europe/London:20211226T103000
DTEND;TZID=Europe/London:20211226T113000
DTSTAMP:20260423T100017
CREATED:20211220T115423Z
LAST-MODIFIED:20211220T115614Z
UID:9802-1640514600-1640518200@trs-farnosti.cz
SUMMARY:Mše svatá
DESCRIPTION:
URL:https://trs-farnosti.cz/udalost/mse-svata-111/
LOCATION:Černošice\, Kostel Nanebevzetí Panny Marie\, Komenského\,\, Černošice
CATEGORIES:bohoslužby,Černošice
GEO:49.9635294;14.3226915
X-APPLE-STRUCTURED-LOCATION;VALUE=URI;X-ADDRESS=Černošice Kostel Nanebevzetí Panny Marie Komenského Černošice;X-APPLE-RADIUS=500;X-TITLE=Kostel Nanebevzetí Panny Marie\, Komenského\,:geo:14.3226915,49.9635294
END:VEVENT
END:VCALENDAR