BEGIN:VCALENDAR
VERSION:2.0
PRODID:-//Stránky farnosti - ECPv4.9.13//NONSGML v1.0//EN
CALSCALE:GREGORIAN
METHOD:PUBLISH
X-WR-CALNAME:Stránky farnosti
X-ORIGINAL-URL:https://trs-farnosti.cz
X-WR-CALDESC:Events for Stránky farnosti
BEGIN:VTIMEZONE
TZID:Europe/London
BEGIN:DAYLIGHT
TZOFFSETFROM:+0000
TZOFFSETTO:+0100
TZNAME:BST
DTSTART:20210328T010000
END:DAYLIGHT
BEGIN:STANDARD
TZOFFSETFROM:+0100
TZOFFSETTO:+0000
TZNAME:GMT
DTSTART:20211031T010000
END:STANDARD
END:VTIMEZONE
BEGIN:VEVENT
DTSTART;TZID=Europe/London:20211225T000000
DTEND;TZID=Europe/London:20211225T010000
DTSTAMP:20260423T112428
CREATED:20211220T115034Z
LAST-MODIFIED:20211220T115034Z
UID:9791-1640390400-1640394000@trs-farnosti.cz
SUMMARY:Půlnoční mše svatá
DESCRIPTION:
URL:https://trs-farnosti.cz/udalost/pulnocni-mse-svata/
LOCATION:Radotín\, Kostel sv. Petra a Pavla\, nám. sv. Petra a Pavla 450/2\, Radotín
CATEGORIES:bohoslužby,Radotín
GEO:49.981958;14.3623536
X-APPLE-STRUCTURED-LOCATION;VALUE=URI;X-ADDRESS=Radotín Kostel sv. Petra a Pavla nám. sv. Petra a Pavla 450/2 Radotín;X-APPLE-RADIUS=500;X-TITLE=Kostel sv. Petra a Pavla\, nám. sv. Petra a Pavla 450/2:geo:14.3623536,49.981958
END:VEVENT
BEGIN:VEVENT
DTSTART;TZID=Europe/London:20211225T083000
DTEND;TZID=Europe/London:20211225T093000
DTSTAMP:20260423T112428
CREATED:20211220T115115Z
LAST-MODIFIED:20211220T115115Z
UID:9793-1640421000-1640424600@trs-farnosti.cz
SUMMARY:Mše svatá
DESCRIPTION:
URL:https://trs-farnosti.cz/udalost/mse-svata-107/
LOCATION:Radotín\, Kostel sv. Petra a Pavla\, nám. sv. Petra a Pavla 450/2\, Radotín
CATEGORIES:bohoslužby,Radotín
GEO:49.981958;14.3623536
X-APPLE-STRUCTURED-LOCATION;VALUE=URI;X-ADDRESS=Radotín Kostel sv. Petra a Pavla nám. sv. Petra a Pavla 450/2 Radotín;X-APPLE-RADIUS=500;X-TITLE=Kostel sv. Petra a Pavla\, nám. sv. Petra a Pavla 450/2:geo:14.3623536,49.981958
END:VEVENT
BEGIN:VEVENT
DTSTART;TZID=Europe/London:20211225T103000
DTEND;TZID=Europe/London:20211225T113000
DTSTAMP:20260423T112428
CREATED:20211220T115152Z
LAST-MODIFIED:20211220T115152Z
UID:9795-1640428200-1640431800@trs-farnosti.cz
SUMMARY:Mše svatá
DESCRIPTION:
URL:https://trs-farnosti.cz/udalost/mse-svata-108/
LOCATION:Černošice\, Kostel Nanebevzetí Panny Marie\, Komenského\,\, Černošice
CATEGORIES:bohoslužby,Černošice
GEO:49.9635294;14.3226915
X-APPLE-STRUCTURED-LOCATION;VALUE=URI;X-ADDRESS=Černošice Kostel Nanebevzetí Panny Marie Komenského Černošice;X-APPLE-RADIUS=500;X-TITLE=Kostel Nanebevzetí Panny Marie\, Komenského\,:geo:14.3226915,49.9635294
END:VEVENT
BEGIN:VEVENT
DTSTART;TZID=Europe/London:20211225T103000
DTEND;TZID=Europe/London:20211225T113000
DTSTAMP:20260423T112428
CREATED:20211220T115309Z
LAST-MODIFIED:20211220T115309Z
UID:9797-1640428200-1640431800@trs-farnosti.cz
SUMMARY:Mše svatá
DESCRIPTION:
URL:https://trs-farnosti.cz/udalost/mse-svata-109/2021-12-25/
LOCATION:Třebotov\, Kostel sv. Martina\, Pod Vsí 288\, Třebotov
CATEGORIES:bohoslužby,Třebotov
GEO:49.9721677;14.2866283
X-APPLE-STRUCTURED-LOCATION;VALUE=URI;X-ADDRESS=Třebotov Kostel sv. Martina Pod Vsí 288 Třebotov;X-APPLE-RADIUS=500;X-TITLE=Kostel sv. Martina\, Pod Vsí 288:geo:14.2866283,49.9721677
END:VEVENT
END:VCALENDAR