BEGIN:VCALENDAR
VERSION:2.0
PRODID:-//Stránky farnosti - ECPv4.9.13//NONSGML v1.0//EN
CALSCALE:GREGORIAN
METHOD:PUBLISH
X-WR-CALNAME:Stránky farnosti
X-ORIGINAL-URL:https://trs-farnosti.cz
X-WR-CALDESC:Events for Stránky farnosti
BEGIN:VTIMEZONE
TZID:Europe/London
BEGIN:DAYLIGHT
TZOFFSETFROM:+0000
TZOFFSETTO:+0100
TZNAME:BST
DTSTART:20210328T010000
END:DAYLIGHT
BEGIN:STANDARD
TZOFFSETFROM:+0100
TZOFFSETTO:+0000
TZNAME:GMT
DTSTART:20211031T010000
END:STANDARD
END:VTIMEZONE
BEGIN:VEVENT
DTSTART;TZID=Europe/London:20211224T160000
DTEND;TZID=Europe/London:20211224T170000
DTSTAMP:20260423T130724
CREATED:20211220T114712Z
LAST-MODIFIED:20211220T114712Z
UID:9783-1640361600-1640365200@trs-farnosti.cz
SUMMARY:Mše svatá
DESCRIPTION:
URL:https://trs-farnosti.cz/udalost/mse-svata-104/
LOCATION:Černošice\, Kostel Nanebevzetí Panny Marie\, Komenského\,\, Černošice
CATEGORIES:bohoslužby,Černošice
GEO:49.9635294;14.3226915
X-APPLE-STRUCTURED-LOCATION;VALUE=URI;X-ADDRESS=Černošice Kostel Nanebevzetí Panny Marie Komenského Černošice;X-APPLE-RADIUS=500;X-TITLE=Kostel Nanebevzetí Panny Marie\, Komenského\,:geo:14.3226915,49.9635294
END:VEVENT
BEGIN:VEVENT
DTSTART;TZID=Europe/London:20211224T210000
DTEND;TZID=Europe/London:20211224T220000
DTSTAMP:20260423T130724
CREATED:20211220T114751Z
LAST-MODIFIED:20211220T114751Z
UID:9785-1640379600-1640383200@trs-farnosti.cz
SUMMARY:Mše svatá
DESCRIPTION:
URL:https://trs-farnosti.cz/udalost/mse-svata-105/
LOCATION:Kosoř\, Kaple sv. Anny\, Kosoř
CATEGORIES:bohoslužby,Kosoř
GEO:49.9867625;14.3270246
X-APPLE-STRUCTURED-LOCATION;VALUE=URI;X-ADDRESS=Kosoř Kaple sv. Anny Kosoř;X-APPLE-RADIUS=500;X-TITLE=Kaple sv. Anny:geo:14.3270246,49.9867625
END:VEVENT
BEGIN:VEVENT
DTSTART;TZID=Europe/London:20211224T220000
DTEND;TZID=Europe/London:20211224T230000
DTSTAMP:20260423T130724
CREATED:20211220T114830Z
LAST-MODIFIED:20211220T114830Z
UID:9787-1640383200-1640386800@trs-farnosti.cz
SUMMARY:Mše svatá
DESCRIPTION:
URL:https://trs-farnosti.cz/udalost/mse-svata-106/
LOCATION:Třebotov\, Kostel sv. Martina\, Pod Vsí 288\, Třebotov
CATEGORIES:bohoslužby,Třebotov
GEO:49.9721677;14.2866283
X-APPLE-STRUCTURED-LOCATION;VALUE=URI;X-ADDRESS=Třebotov Kostel sv. Martina Pod Vsí 288 Třebotov;X-APPLE-RADIUS=500;X-TITLE=Kostel sv. Martina\, Pod Vsí 288:geo:14.2866283,49.9721677
END:VEVENT
END:VCALENDAR