BEGIN:VCALENDAR
VERSION:2.0
PRODID:-//Stránky farnosti - ECPv4.9.13//NONSGML v1.0//EN
CALSCALE:GREGORIAN
METHOD:PUBLISH
X-WR-CALNAME:Stránky farnosti
X-ORIGINAL-URL:https://trs-farnosti.cz
X-WR-CALDESC:Events for Stránky farnosti
BEGIN:VTIMEZONE
TZID:Europe/London
BEGIN:DAYLIGHT
TZOFFSETFROM:+0000
TZOFFSETTO:+0100
TZNAME:BST
DTSTART:20260329T010000
END:DAYLIGHT
BEGIN:STANDARD
TZOFFSETFROM:+0100
TZOFFSETTO:+0000
TZNAME:GMT
DTSTART:20261025T010000
END:STANDARD
END:VTIMEZONE
BEGIN:VEVENT
DTSTART;TZID=Europe/London:20260125T083000
DTEND;TZID=Europe/London:20260125T093000
DTSTAMP:20260426T013225
CREATED:20251229T184416Z
LAST-MODIFIED:20251229T184416Z
UID:18058-1769329800-1769333400@trs-farnosti.cz
SUMMARY:Mše svatá
DESCRIPTION:
URL:https://trs-farnosti.cz/udalost/mse-svata-727/2026-01-25/
LOCATION:Radotín\, Kostel sv. Petra a Pavla\, nám. sv. Petra a Pavla 450/2\, Radotín
CATEGORIES:bohoslužby,Radotín
GEO:49.981958;14.3623536
X-APPLE-STRUCTURED-LOCATION;VALUE=URI;X-ADDRESS=Radotín Kostel sv. Petra a Pavla nám. sv. Petra a Pavla 450/2 Radotín;X-APPLE-RADIUS=500;X-TITLE=Kostel sv. Petra a Pavla\, nám. sv. Petra a Pavla 450/2:geo:14.3623536,49.981958
END:VEVENT
BEGIN:VEVENT
DTSTART;TZID=Europe/London:20260125T103000
DTEND;TZID=Europe/London:20260125T113000
DTSTAMP:20260426T013225
CREATED:20251229T184525Z
LAST-MODIFIED:20251229T184525Z
UID:18085-1769337000-1769340600@trs-farnosti.cz
SUMMARY:Mše svatá
DESCRIPTION:
URL:https://trs-farnosti.cz/udalost/mse-svata-728/2026-01-25/
LOCATION:Černošice\, Kostel Nanebevzetí Panny Marie\, Komenského\,\, Černošice
CATEGORIES:bohoslužby,Černošice
GEO:49.9635294;14.3226915
X-APPLE-STRUCTURED-LOCATION;VALUE=URI;X-ADDRESS=Černošice Kostel Nanebevzetí Panny Marie Komenského Černošice;X-APPLE-RADIUS=500;X-TITLE=Kostel Nanebevzetí Panny Marie\, Komenského\,:geo:14.3226915,49.9635294
END:VEVENT
BEGIN:VEVENT
DTSTART;TZID=Europe/London:20260125T140000
DTEND;TZID=Europe/London:20260125T190000
DTSTAMP:20260426T013225
CREATED:20260121T145727Z
LAST-MODIFIED:20260121T145727Z
UID:18373-1769349600-1769367600@trs-farnosti.cz
SUMMARY:Akce Dominik
DESCRIPTION:
URL:https://trs-farnosti.cz/udalost/akce-dominik-2/
LOCATION:MaNa\, MaNa\, Komenského 2018\, Černošice
CATEGORIES:MaNa
GEO:49.9637383;14.3218717
X-APPLE-STRUCTURED-LOCATION;VALUE=URI;X-ADDRESS=MaNa MaNa Komenského 2018 Černošice;X-APPLE-RADIUS=500;X-TITLE=MaNa\, Komenského 2018:geo:14.3218717,49.9637383
END:VEVENT
BEGIN:VEVENT
DTSTART;TZID=Europe/London:20260125T173000
DTEND;TZID=Europe/London:20260125T190000
DTSTAMP:20260426T013225
CREATED:20260108T074528Z
LAST-MODIFIED:20260108T074528Z
UID:18359-1769362200-1769367600@trs-farnosti.cz
SUMMARY:Setkání ministrantů
DESCRIPTION:
URL:https://trs-farnosti.cz/udalost/setkani-ministrantu/
LOCATION:Komunitní centrum\, Komunitní centrum Radotín\, nám. sv. Petra a Pavla 450/2\, Radotín\, Praha\, 15300\, Česká republika
CATEGORIES:Komunitní centrum u Kostela sv. Petra a Pavla
GEO:49.981958;14.3623536
X-APPLE-STRUCTURED-LOCATION;VALUE=URI;X-ADDRESS=Komunitní centrum Komunitní centrum Radotín nám. sv. Petra a Pavla 450/2 Radotín Praha 15300 Česká republika;X-APPLE-RADIUS=500;X-TITLE=Komunitní centrum Radotín\, nám. sv. Petra a Pavla 450/2:geo:14.3623536,49.981958
END:VEVENT
END:VCALENDAR