BEGIN:VCALENDAR
VERSION:2.0
PRODID:-//Stránky farnosti - ECPv4.9.13//NONSGML v1.0//EN
CALSCALE:GREGORIAN
METHOD:PUBLISH
X-WR-CALNAME:Stránky farnosti
X-ORIGINAL-URL:https://trs-farnosti.cz
X-WR-CALDESC:Events for Stránky farnosti
BEGIN:VTIMEZONE
TZID:Europe/London
BEGIN:DAYLIGHT
TZOFFSETFROM:+0000
TZOFFSETTO:+0100
TZNAME:BST
DTSTART:20260329T010000
END:DAYLIGHT
BEGIN:STANDARD
TZOFFSETFROM:+0100
TZOFFSETTO:+0000
TZNAME:GMT
DTSTART:20261025T010000
END:STANDARD
END:VTIMEZONE
BEGIN:VEVENT
DTSTART;TZID=Europe/London:20260110T150000
DTEND;TZID=Europe/London:20260110T193000
DTSTAMP:20260425T010543
CREATED:20251126T144118Z
LAST-MODIFIED:20251126T151227Z
UID:17779-1768057200-1768073400@trs-farnosti.cz
SUMMARY:křtiny Matouš Kunt + oslava
DESCRIPTION:kostel+fara \n
URL:https://trs-farnosti.cz/udalost/krtiny-matous-kunt-oslava/
LOCATION:Radotín\, Kostel sv. Petra a Pavla\, nám. sv. Petra a Pavla 450/2\, Radotín
CATEGORIES:Radotín
GEO:49.981958;14.3623536
X-APPLE-STRUCTURED-LOCATION;VALUE=URI;X-ADDRESS=Radotín Kostel sv. Petra a Pavla nám. sv. Petra a Pavla 450/2 Radotín;X-APPLE-RADIUS=500;X-TITLE=Kostel sv. Petra a Pavla\, nám. sv. Petra a Pavla 450/2:geo:14.3623536,49.981958
END:VEVENT
BEGIN:VEVENT
DTSTART;TZID=Europe/London:20260110T170000
DTEND;TZID=Europe/London:20260110T180000
DTSTAMP:20260425T010543
CREATED:20251130T083639Z
LAST-MODIFIED:20260307T115753Z
UID:17808-1768064400-1768068000@trs-farnosti.cz
SUMMARY:Mše svatá
DESCRIPTION:
URL:https://trs-farnosti.cz/udalost/mse-svata-715/2026-01-10/
LOCATION:Třebotov\, Kostel sv. Martina\, Pod Vsí 288\, Třebotov
CATEGORIES:bohoslužby,Třebotov
GEO:49.9721677;14.2866283
X-APPLE-STRUCTURED-LOCATION;VALUE=URI;X-ADDRESS=Třebotov Kostel sv. Martina Pod Vsí 288 Třebotov;X-APPLE-RADIUS=500;X-TITLE=Kostel sv. Martina\, Pod Vsí 288:geo:14.2866283,49.9721677
END:VEVENT
END:VCALENDAR