BEGIN:VCALENDAR
VERSION:2.0
PRODID:-//Stránky farnosti - ECPv4.9.13//NONSGML v1.0//EN
CALSCALE:GREGORIAN
METHOD:PUBLISH
X-WR-CALNAME:Stránky farnosti
X-ORIGINAL-URL:https://trs-farnosti.cz
X-WR-CALDESC:Events for Stránky farnosti
BEGIN:VTIMEZONE
TZID:Europe/London
BEGIN:DAYLIGHT
TZOFFSETFROM:+0000
TZOFFSETTO:+0100
TZNAME:BST
DTSTART:20250330T010000
END:DAYLIGHT
BEGIN:STANDARD
TZOFFSETFROM:+0100
TZOFFSETTO:+0000
TZNAME:GMT
DTSTART:20251026T010000
END:STANDARD
END:VTIMEZONE
BEGIN:VEVENT
DTSTART;TZID=Europe/London:20251227T090000
DTEND;TZID=Europe/London:20251227T100000
DTSTAMP:20260424T045321
CREATED:20251222T211612Z
LAST-MODIFIED:20251222T211612Z
UID:17949-1766826000-1766829600@trs-farnosti.cz
SUMMARY:Mše svatá
DESCRIPTION:
URL:https://trs-farnosti.cz/udalost/mse-svata-718/2025-12-27/
LOCATION:Černošice\, Kostel Nanebevzetí Panny Marie\, Komenského\,\, Černošice
CATEGORIES:bohoslužby,Radotín
GEO:49.9635294;14.3226915
X-APPLE-STRUCTURED-LOCATION;VALUE=URI;X-ADDRESS=Černošice Kostel Nanebevzetí Panny Marie Komenského Černošice;X-APPLE-RADIUS=500;X-TITLE=Kostel Nanebevzetí Panny Marie\, Komenského\,:geo:14.3226915,49.9635294
END:VEVENT
BEGIN:VEVENT
DTSTART;TZID=Europe/London:20251227T170000
DTEND;TZID=Europe/London:20251227T180000
DTSTAMP:20260424T045321
CREATED:20251130T083639Z
LAST-MODIFIED:20260307T115753Z
UID:17806-1766854800-1766858400@trs-farnosti.cz
SUMMARY:Mše svatá
DESCRIPTION:
URL:https://trs-farnosti.cz/udalost/mse-svata-715/2025-12-27/
LOCATION:Třebotov\, Kostel sv. Martina\, Pod Vsí 288\, Třebotov
CATEGORIES:bohoslužby,Třebotov
GEO:49.9721677;14.2866283
X-APPLE-STRUCTURED-LOCATION;VALUE=URI;X-ADDRESS=Třebotov Kostel sv. Martina Pod Vsí 288 Třebotov;X-APPLE-RADIUS=500;X-TITLE=Kostel sv. Martina\, Pod Vsí 288:geo:14.2866283,49.9721677
END:VEVENT
BEGIN:VEVENT
DTSTART;TZID=Europe/London:20251227T173000
DTEND;TZID=Europe/London:20251227T220000
DTSTAMP:20260424T045321
CREATED:20251222T213105Z
LAST-MODIFIED:20251222T213105Z
UID:17956-1766856600-1766872800@trs-farnosti.cz
SUMMARY:Skauti
DESCRIPTION:
URL:https://trs-farnosti.cz/udalost/skauti-3/
LOCATION:MaNa\, MaNa\, Komenského 2018\, Černošice
CATEGORIES:MaNa
GEO:49.9637383;14.3218717
X-APPLE-STRUCTURED-LOCATION;VALUE=URI;X-ADDRESS=MaNa MaNa Komenského 2018 Černošice;X-APPLE-RADIUS=500;X-TITLE=MaNa\, Komenského 2018:geo:14.3218717,49.9637383
END:VEVENT
END:VCALENDAR