BEGIN:VCALENDAR
VERSION:2.0
PRODID:-//Stránky farnosti - ECPv4.9.13//NONSGML v1.0//EN
CALSCALE:GREGORIAN
METHOD:PUBLISH
X-WR-CALNAME:Stránky farnosti
X-ORIGINAL-URL:https://trs-farnosti.cz
X-WR-CALDESC:Events for Stránky farnosti
BEGIN:VTIMEZONE
TZID:Europe/London
BEGIN:DAYLIGHT
TZOFFSETFROM:+0000
TZOFFSETTO:+0100
TZNAME:BST
DTSTART:20250330T010000
END:DAYLIGHT
BEGIN:STANDARD
TZOFFSETFROM:+0100
TZOFFSETTO:+0000
TZNAME:GMT
DTSTART:20251026T010000
END:STANDARD
END:VTIMEZONE
BEGIN:VEVENT
DTSTART;TZID=Europe/London:20251224T160000
DTEND;TZID=Europe/London:20251224T170000
DTSTAMP:20260424T002433
CREATED:20251222T211048Z
LAST-MODIFIED:20251222T211048Z
UID:17931-1766592000-1766595600@trs-farnosti.cz
SUMMARY:Mše svatá
DESCRIPTION:
URL:https://trs-farnosti.cz/udalost/mse-svata-717/2025-12-24/
LOCATION:Černošice\, Kostel Nanebevzetí Panny Marie\, Komenského\,\, Černošice
CATEGORIES:bohoslužby,Černošice
GEO:49.9635294;14.3226915
X-APPLE-STRUCTURED-LOCATION;VALUE=URI;X-ADDRESS=Černošice Kostel Nanebevzetí Panny Marie Komenského Černošice;X-APPLE-RADIUS=500;X-TITLE=Kostel Nanebevzetí Panny Marie\, Komenského\,:geo:14.3226915,49.9635294
END:VEVENT
BEGIN:VEVENT
DTSTART;TZID=Europe/London:20251224T200000
DTEND;TZID=Europe/London:20251224T210000
DTSTAMP:20260424T002433
CREATED:20251222T212723Z
LAST-MODIFIED:20251222T214212Z
UID:17954-1766606400-1766610000@trs-farnosti.cz
SUMMARY:Mše svatá
DESCRIPTION:
URL:https://trs-farnosti.cz/udalost/mse-svata-720/
LOCATION:Kosoř\, Kaple sv. Anny\, Kosoř
CATEGORIES:bohoslužby,Kosoř
GEO:49.9867625;14.3270246
X-APPLE-STRUCTURED-LOCATION;VALUE=URI;X-ADDRESS=Kosoř Kaple sv. Anny Kosoř;X-APPLE-RADIUS=500;X-TITLE=Kaple sv. Anny:geo:14.3270246,49.9867625
END:VEVENT
BEGIN:VEVENT
DTSTART;TZID=Europe/London:20251224T220000
DTEND;TZID=Europe/London:20251224T230000
DTSTAMP:20260424T002433
CREATED:20251222T212151Z
LAST-MODIFIED:20251222T212539Z
UID:17951-1766613600-1766617200@trs-farnosti.cz
SUMMARY:Mše svatá
DESCRIPTION:
URL:https://trs-farnosti.cz/udalost/mse-svata-719/2025-12-24/
LOCATION:Třebotov\, Kostel sv. Martina\, Pod Vsí 288\, Třebotov
CATEGORIES:bohoslužby,Třebotov
GEO:49.9721677;14.2866283
X-APPLE-STRUCTURED-LOCATION;VALUE=URI;X-ADDRESS=Třebotov Kostel sv. Martina Pod Vsí 288 Třebotov;X-APPLE-RADIUS=500;X-TITLE=Kostel sv. Martina\, Pod Vsí 288:geo:14.2866283,49.9721677
END:VEVENT
END:VCALENDAR