BEGIN:VCALENDAR
VERSION:2.0
PRODID:-//Stránky farnosti - ECPv4.9.13//NONSGML v1.0//EN
CALSCALE:GREGORIAN
METHOD:PUBLISH
X-WR-CALNAME:Stránky farnosti
X-ORIGINAL-URL:https://trs-farnosti.cz
X-WR-CALDESC:Events for Stránky farnosti
BEGIN:VTIMEZONE
TZID:Europe/London
BEGIN:DAYLIGHT
TZOFFSETFROM:+0000
TZOFFSETTO:+0100
TZNAME:BST
DTSTART:20190331T010000
END:DAYLIGHT
BEGIN:STANDARD
TZOFFSETFROM:+0100
TZOFFSETTO:+0000
TZNAME:GMT
DTSTART:20191027T010000
END:STANDARD
END:VTIMEZONE
BEGIN:VEVENT
DTSTART;TZID=Europe/London:20191221T100000
DTEND;TZID=Europe/London:20191221T120000
DTSTAMP:20260421T090710
CREATED:20191221T020656Z
LAST-MODIFIED:20191221T020656Z
UID:3408-1576922400-1576929600@trs-farnosti.cz
SUMMARY:MaNa zkouška Rybova mše
DESCRIPTION:
URL:https://trs-farnosti.cz/udalost/mana-zkouska-rybova-mse/
LOCATION:MaNa\, MaNa\, Komenského 2018\, Černošice
CATEGORIES:MaNa
GEO:49.9637383;14.3218717
X-APPLE-STRUCTURED-LOCATION;VALUE=URI;X-ADDRESS=MaNa MaNa Komenského 2018 Černošice;X-APPLE-RADIUS=500;X-TITLE=MaNa\, Komenského 2018:geo:14.3218717,49.9637383
END:VEVENT
END:VCALENDAR