BEGIN:VCALENDAR
VERSION:2.0
PRODID:-//Stránky farnosti - ECPv4.9.13//NONSGML v1.0//EN
CALSCALE:GREGORIAN
METHOD:PUBLISH
X-WR-CALNAME:Stránky farnosti
X-ORIGINAL-URL:https://trs-farnosti.cz
X-WR-CALDESC:Events for Stránky farnosti
BEGIN:VTIMEZONE
TZID:Europe/London
BEGIN:DAYLIGHT
TZOFFSETFROM:+0000
TZOFFSETTO:+0100
TZNAME:BST
DTSTART:20240331T010000
END:DAYLIGHT
BEGIN:STANDARD
TZOFFSETFROM:+0100
TZOFFSETTO:+0000
TZNAME:GMT
DTSTART:20241027T010000
END:STANDARD
END:VTIMEZONE
BEGIN:VEVENT
DTSTART;TZID=Europe/London:20240507T093000
DTEND;TZID=Europe/London:20240507T103000
DTSTAMP:20260424T034118
CREATED:20240110T130155Z
LAST-MODIFIED:20240110T130155Z
UID:14280-1715074200-1715077800@trs-farnosti.cz
SUMMARY:Alzheimer centrum Černošice
DESCRIPTION:
URL:https://trs-farnosti.cz/udalost/alzheimer-centrum-cernosice/2024-05-07/
CATEGORIES:Farář
END:VEVENT
END:VCALENDAR